BEGIN:VCALENDAR
VERSION:2.0
PRODID:-//46.250.221.9//NONSGML kigkonsult.se iCalcreator 2.20//
CALSCALE:GREGORIAN
METHOD:PUBLISH
X-WR-TIMEZONE:UTC
BEGIN:VEVENT
UID:event180@Mandalvolley
DTSTAMP:20260421T105545Z
CATEGORIES:Skolefri
DESCRIPTION:Påskeferie\nKategori: Skolefri\nLink: http://mandalvolley.no/in
 dex.php?option=com_jem&view=event&id=180:paskeferie\n
DTSTART:20260328T070000Z
DTEND:20260407T230000Z
SUMMARY:Påskeferie
URL:http://mandalvolley.no/index.php?option=com_jem&view=event&id=180:paske
 ferie
END:VEVENT
END:VCALENDAR