BEGIN:VCALENDAR
VERSION:2.0
PRODID:-//46.250.221.9//NONSGML kigkonsult.se iCalcreator 2.20//
CALSCALE:GREGORIAN
METHOD:PUBLISH
X-WR-TIMEZONE:UTC
BEGIN:VEVENT
UID:event187@Mandalvolley
DTSTAMP:20260419T143726Z
CATEGORIES:Turnering
DESCRIPTION:NM U19 KFUM VOLDA\nKategori: Turnering\nLink: http://mandalvoll
 ey.no/index.php?option=com_jem&view=event&id=187:nm-u19-kfum-volda\n
DTSTART:20260312T070000Z
DTEND:20260315T180000Z
SUMMARY:NM U19 KFUM VOLDA
URL:http://mandalvolley.no/index.php?option=com_jem&view=event&id=187:nm-u1
 9-kfum-volda
END:VEVENT
END:VCALENDAR