BEGIN:VCALENDAR
VERSION:2.0
PRODID:-//46.250.221.9//NONSGML kigkonsult.se iCalcreator 2.20//
CALSCALE:GREGORIAN
METHOD:PUBLISH
X-WR-TIMEZONE:UTC
BEGIN:VEVENT
UID:event237@Mandalvolley
DTSTAMP:20260421T105057Z
CATEGORIES:3. divisjon Herrer
DESCRIPTION:Grimstad - Mandal H\nKategori: 3. divisjon Herrer\nLink: http:/
 /mandalvolley.no/index.php?option=com_jem&view=event&id=237:grimstad-manda
 l-h\n
DTSTART:20260319T201500Z
DTEND:20260319T221500Z
LOCATION:Holvikahallen\,Holvika\,4898 Grimstad
SUMMARY:Grimstad - Mandal H
URL:http://mandalvolley.no/index.php?option=com_jem&view=event&id=237:grims
 tad-mandal-h
END:VEVENT
END:VCALENDAR